BEGIN:VCALENDAR
VERSION:2.0
PRODID:-//Naples Republican Club - ECPv6.15.20//NONSGML v1.0//EN
CALSCALE:GREGORIAN
METHOD:PUBLISH
X-WR-CALNAME:Naples Republican Club
X-ORIGINAL-URL:https://naplesrc.com
X-WR-CALDESC:Events for Naples Republican Club
REFRESH-INTERVAL;VALUE=DURATION:PT1H
X-Robots-Tag:noindex
X-PUBLISHED-TTL:PT1H
BEGIN:VTIMEZONE
TZID:America/New_York
BEGIN:DAYLIGHT
TZOFFSETFROM:-0500
TZOFFSETTO:-0400
TZNAME:EDT
DTSTART:20230312T070000
END:DAYLIGHT
BEGIN:STANDARD
TZOFFSETFROM:-0400
TZOFFSETTO:-0500
TZNAME:EST
DTSTART:20231105T060000
END:STANDARD
BEGIN:DAYLIGHT
TZOFFSETFROM:-0500
TZOFFSETTO:-0400
TZNAME:EDT
DTSTART:20240310T070000
END:DAYLIGHT
BEGIN:STANDARD
TZOFFSETFROM:-0400
TZOFFSETTO:-0500
TZNAME:EST
DTSTART:20241103T060000
END:STANDARD
BEGIN:DAYLIGHT
TZOFFSETFROM:-0500
TZOFFSETTO:-0400
TZNAME:EDT
DTSTART:20250309T070000
END:DAYLIGHT
BEGIN:STANDARD
TZOFFSETFROM:-0400
TZOFFSETTO:-0500
TZNAME:EST
DTSTART:20251102T060000
END:STANDARD
BEGIN:DAYLIGHT
TZOFFSETFROM:-0500
TZOFFSETTO:-0400
TZNAME:EDT
DTSTART:20260308T070000
END:DAYLIGHT
BEGIN:STANDARD
TZOFFSETFROM:-0400
TZOFFSETTO:-0500
TZNAME:EST
DTSTART:20261101T060000
END:STANDARD
BEGIN:DAYLIGHT
TZOFFSETFROM:-0500
TZOFFSETTO:-0400
TZNAME:EDT
DTSTART:20270314T070000
END:DAYLIGHT
BEGIN:STANDARD
TZOFFSETFROM:-0400
TZOFFSETTO:-0500
TZNAME:EST
DTSTART:20271107T060000
END:STANDARD
END:VTIMEZONE
BEGIN:VEVENT
DTSTART;TZID=America/New_York:20260511T183000
DTEND;TZID=America/New_York:20260511T203000
DTSTAMP:20260425T125323
CREATED:20260413T164901Z
LAST-MODIFIED:20260413T165127Z
UID:3118-1778524200-1778531400@naplesrc.com
SUMMARY:May MAGA Monday
DESCRIPTION:MAGA Monday with Former Florida House Speaker\, & Gubernatorial Candidate\, Paul Renner \nMay 11th | 6:30-8:30pm \nLulu’s Kitchen | 2125 Airport-Pulling Rd\, Naples\, FL 34112
URL:https://naplesrc.com/event/may-maga-monday/
END:VEVENT
BEGIN:VEVENT
DTSTART;TZID=America/New_York:20260413T183000
DTEND;TZID=America/New_York:20260413T203000
DTSTAMP:20260425T125323
CREATED:20260413T164730Z
LAST-MODIFIED:20260413T165241Z
UID:3115-1776105000-1776112200@naplesrc.com
SUMMARY:April MAGA Monday
DESCRIPTION:MAGA Monday with James Fishback \nApril 13th | 6:30-8:30pm \nLulu’s Kitchen | 2125 Airport-Pulling Rd\, Naples\, FL 34112
URL:https://naplesrc.com/event/april-maga-monday/
END:VEVENT
BEGIN:VEVENT
DTSTART;TZID=America/New_York:20260309T183000
DTEND;TZID=America/New_York:20260309T203000
DTSTAMP:20260425T125323
CREATED:20260119T042651Z
LAST-MODIFIED:20260119T042651Z
UID:2959-1773081000-1773088200@naplesrc.com
SUMMARY:March MAGA Monday
DESCRIPTION:MAGA Monday with Florida’s Lieutenant Govenor: Jay Collins \nMarch 9th | 6:30-8:30pm \nLulu’s Kitchen | 2125 Airport-Pulling Rd\, Naples\, FL 34112
URL:https://naplesrc.com/event/march-maga-monday/
LOCATION:Lu Lu’s Kitchen\, 2125 Airport Road South\, Naples\, FL\, 34112\, United States
END:VEVENT
BEGIN:VEVENT
DTSTART;TZID=America/New_York:20260209T183000
DTEND;TZID=America/New_York:20260209T203000
DTSTAMP:20260425T125323
CREATED:20260119T042515Z
LAST-MODIFIED:20260119T042515Z
UID:2957-1770661800-1770669000@naplesrc.com
SUMMARY:February MAGA Monday
DESCRIPTION:MAGA Monday with Treniss J. Evans III \nFebruary 9th | 6:30-8:30pm \nLulu’s Kitchen | 2125 Airport-Pulling Rd\, Naples\, FL 34112 \n 
URL:https://naplesrc.com/event/february-maga-monday/
LOCATION:Lu Lu’s Kitchen\, 2125 Airport Road South\, Naples\, FL\, 34112\, United States
END:VEVENT
BEGIN:VEVENT
DTSTART;TZID=America/New_York:20251013T180000
DTEND;TZID=America/New_York:20251013T200000
DTSTAMP:20260425T125323
CREATED:20250912T190708Z
LAST-MODIFIED:20250912T190708Z
UID:2658-1760378400-1760385600@naplesrc.com
SUMMARY:MAGA Monday October
DESCRIPTION:Tickets to the October 13\, 2025\, MAGA Monday social event \nGuest Ticket: $25 + processing fee \nMember Ticket: $20 + processing fee
URL:https://naplesrc.com/event/maga-monday-october/
LOCATION:Lu Lu’s Kitchen\, 2125 Airport Road South\, Naples\, FL\, 34112\, United States
END:VEVENT
BEGIN:VEVENT
DTSTART;TZID=America/New_York:20241205T180000
DTEND;TZID=America/New_York:20241205T210000
DTSTAMP:20260425T125323
CREATED:20241106T191342Z
LAST-MODIFIED:20241129T232421Z
UID:1504-1733421600-1733432400@naplesrc.com
SUMMARY:Christmas at the Vineyards
DESCRIPTION:SOLD OUT
URL:https://naplesrc.com/event/christmas-at-the-vineyards/
LOCATION:Vineyards Country Club\, 400 Vineyards Blvd\, Naples\, FL\, 34119\, United States
END:VEVENT
BEGIN:VEVENT
DTSTART;VALUE=DATE:20241021
DTEND;VALUE=DATE:20241103
DTSTAMP:20260425T125323
CREATED:20241007T013632Z
LAST-MODIFIED:20241007T013632Z
UID:1376-1729468800-1730591999@naplesrc.com
SUMMARY:Early Voting
DESCRIPTION:
URL:https://naplesrc.com/event/early-voting/
END:VEVENT
BEGIN:VEVENT
DTSTART;TZID=America/New_York:20241019T100000
DTEND;TZID=America/New_York:20241019T120000
DTSTAMP:20260425T125323
CREATED:20240811T205620Z
LAST-MODIFIED:20240811T205620Z
UID:920-1729332000-1729339200@naplesrc.com
SUMMARY:Trump & Candidate Rally
DESCRIPTION:Bring USA flags\, Trump flags\, and all of your friends. \nEvery Saturday.
URL:https://naplesrc.com/event/trump-candidate-rally-10/
LOCATION:Trump Corner\, Pine Ridge Rd. & Airport Pulling Rd.\, Naples\, FL\, United States
END:VEVENT
BEGIN:VEVENT
DTSTART;TZID=America/New_York:20241016T180000
DTEND;TZID=America/New_York:20241016T200000
DTSTAMP:20260425T125323
CREATED:20240818T012524Z
LAST-MODIFIED:20240908T193521Z
UID:999-1729101600-1729108800@naplesrc.com
SUMMARY:Indoctrination of Students in Public Schools - The Reason to Homeschool - Featuring ALEX NEWMAN
DESCRIPTION:SPONSOR EVENT                BUY TICKETS\n\nEvent Speakers \n \nAlex Newman \n \nErin Lee \n \nWilliam Bouajian
URL:https://naplesrc.com/event/indoctrination-of-students-in-public-schools-the-reason-to-homeschool/
LOCATION:CMX Cinema at Coastland Center 2000\, CMX Cinema\, Coastland Center 2000\, 9th St N\, Naples\, FL\, 34102\, United States
END:VEVENT
BEGIN:VEVENT
DTSTART;TZID=America/New_York:20241014T170000
DTEND;TZID=America/New_York:20241014T190000
DTSTAMP:20260425T125323
CREATED:20240824T011737Z
LAST-MODIFIED:20241008T032406Z
UID:1110-1728925200-1728932400@naplesrc.com
SUMMARY:MAGA Monday - CANCELLED
DESCRIPTION:CANCELLED DUE TO HURRICANE MILTON \nSee more information here.
URL:https://naplesrc.com/event/maga-monday-2/
END:VEVENT
BEGIN:VEVENT
DTSTART;TZID=America/New_York:20241012T100000
DTEND;TZID=America/New_York:20241012T120000
DTSTAMP:20260425T125323
CREATED:20240811T205501Z
LAST-MODIFIED:20240811T205501Z
UID:918-1728727200-1728734400@naplesrc.com
SUMMARY:Trump & Candidate Rally
DESCRIPTION:Bring USA flags\, Trump flags\, and all of your friends. \nEvery Saturday.
URL:https://naplesrc.com/event/trump-candidate-rally-9/
LOCATION:Trump Corner\, Pine Ridge Rd. & Airport Pulling Rd.\, Naples\, FL\, United States
END:VEVENT
BEGIN:VEVENT
DTSTART;VALUE=DATE:20241007
DTEND;VALUE=DATE:20241008
DTSTAMP:20260425T125323
CREATED:20241007T013321Z
LAST-MODIFIED:20241007T013321Z
UID:1372-1728259200-1728345599@naplesrc.com
SUMMARY:Last Day to Register to Vote
DESCRIPTION:
URL:https://naplesrc.com/event/last-day-to-register-to-vote/
END:VEVENT
BEGIN:VEVENT
DTSTART;TZID=America/New_York:20241005T100000
DTEND;TZID=America/New_York:20241005T120000
DTSTAMP:20260425T125323
CREATED:20240811T205357Z
LAST-MODIFIED:20240811T205357Z
UID:916-1728122400-1728129600@naplesrc.com
SUMMARY:Trump & Candidate Rally
DESCRIPTION:Bring USA flags\, Trump flags\, and all of your friends. \nEvery Saturday.
URL:https://naplesrc.com/event/trump-candidate-rally-8/
LOCATION:Trump Corner\, Pine Ridge Rd. & Airport Pulling Rd.\, Naples\, FL\, United States
END:VEVENT
BEGIN:VEVENT
DTSTART;TZID=America/New_York:20240930T170000
DTEND;TZID=America/New_York:20240930T190000
DTSTAMP:20260425T125323
CREATED:20240820T143354Z
LAST-MODIFIED:20240912T020508Z
UID:1032-1727715600-1727722800@naplesrc.com
SUMMARY:MAGA Monday
DESCRIPTION:See more information here.
URL:https://naplesrc.com/event/maga-monday/
LOCATION:Dorona\, 2110 Tamiami Trail North\, Naples\, FL\, 34102\, United States
END:VEVENT
BEGIN:VEVENT
DTSTART;TZID=America/New_York:20240928T100000
DTEND;TZID=America/New_York:20240928T120000
DTSTAMP:20260425T125323
CREATED:20240811T205237Z
LAST-MODIFIED:20240811T205237Z
UID:914-1727517600-1727524800@naplesrc.com
SUMMARY:Trump & Candidate Rally
DESCRIPTION:Bring USA flags\, Trump flags\, and all of your friends. \nEvery Saturday.
URL:https://naplesrc.com/event/trump-candidate-rally-7/
LOCATION:Trump Corner\, Pine Ridge Rd. & Airport Pulling Rd.\, Naples\, FL\, United States
END:VEVENT
BEGIN:VEVENT
DTSTART;VALUE=DATE:20240926
DTEND;VALUE=DATE:20240927
DTSTAMP:20260425T125323
CREATED:20241007T013234Z
LAST-MODIFIED:20241007T013234Z
UID:1369-1727308800-1727395199@naplesrc.com
SUMMARY:Domestic Vote-by-Mail Ballots Begin Going Out
DESCRIPTION:
URL:https://naplesrc.com/event/domestic-vote-by-mail-ballots-begin-going-out/
END:VEVENT
BEGIN:VEVENT
DTSTART;TZID=America/New_York:20240921T100000
DTEND;TZID=America/New_York:20240921T120000
DTSTAMP:20260425T125323
CREATED:20240811T205121Z
LAST-MODIFIED:20240811T205121Z
UID:912-1726912800-1726920000@naplesrc.com
SUMMARY:Trump & Candidate Rally
DESCRIPTION:Bring USA flags\, Trump flags\, and all of your friends. \nEvery Saturday.
URL:https://naplesrc.com/event/trump-candidate-rally-6/
LOCATION:Trump Corner\, Pine Ridge Rd. & Airport Pulling Rd.\, Naples\, FL\, United States
END:VEVENT
BEGIN:VEVENT
DTSTART;TZID=America/New_York:20240918T180000
DTEND;TZID=America/New_York:20240918T200000
DTSTAMP:20260425T125323
CREATED:20240817T022458Z
LAST-MODIFIED:20240912T020222Z
UID:980-1726682400-1726689600@naplesrc.com
SUMMARY:Mingling with Fratto
DESCRIPTION:SPONSOR EVENT                   BUY TICKETS\n \nWhat made Johnny run for Congress? How can we recruit young Republicans? What is the future of our party?\nLight Bites and 1 free raffle ticket for a bottle of wine from Trump Winery!
URL:https://naplesrc.com/event/mingling-with-fratto/
LOCATION:Dorona\, 2110 Tamiami Trail North\, Naples\, FL\, 34102\, United States
END:VEVENT
BEGIN:VEVENT
DTSTART;TZID=America/New_York:20240914T100000
DTEND;TZID=America/New_York:20240914T120000
DTSTAMP:20260425T125323
CREATED:20240811T205022Z
LAST-MODIFIED:20240811T205022Z
UID:910-1726308000-1726315200@naplesrc.com
SUMMARY:Trump & Candidate Rally
DESCRIPTION:Bring USA flags\, Trump flags\, and all of your friends. \nEvery Saturday.
URL:https://naplesrc.com/event/trump-candidate-rally-5/
LOCATION:Trump Corner\, Pine Ridge Rd. & Airport Pulling Rd.\, Naples\, FL\, United States
END:VEVENT
BEGIN:VEVENT
DTSTART;TZID=America/New_York:20240907T100000
DTEND;TZID=America/New_York:20240907T120000
DTSTAMP:20260425T125323
CREATED:20240811T204838Z
LAST-MODIFIED:20240811T204838Z
UID:908-1725703200-1725710400@naplesrc.com
SUMMARY:Trump & Candidate Rally
DESCRIPTION:Bring USA flags\, Trump flags\, and all of your friends. \nEvery Saturday.
URL:https://naplesrc.com/event/trump-candidate-rally-4/
LOCATION:Trump Corner\, Pine Ridge Rd. & Airport Pulling Rd.\, Naples\, FL\, United States
END:VEVENT
BEGIN:VEVENT
DTSTART;TZID=America/New_York:20240831T100000
DTEND;TZID=America/New_York:20240831T120000
DTSTAMP:20260425T125323
CREATED:20240811T204702Z
LAST-MODIFIED:20240811T204702Z
UID:905-1725098400-1725105600@naplesrc.com
SUMMARY:Trump & Candidate Rally
DESCRIPTION:Bring USA flags\, Trump flags\, and all of your friends. \nEvery Saturday.
URL:https://naplesrc.com/event/trump-candidate-rally-3/
LOCATION:Trump Corner\, Pine Ridge Rd. & Airport Pulling Rd.\, Naples\, FL\, United States
END:VEVENT
BEGIN:VEVENT
DTSTART;TZID=America/New_York:20240824T100000
DTEND;TZID=America/New_York:20240824T120000
DTSTAMP:20260425T125323
CREATED:20240811T204358Z
LAST-MODIFIED:20240811T210008Z
UID:902-1724493600-1724500800@naplesrc.com
SUMMARY:Trump & Candidate Rally
DESCRIPTION:Bring USA flags\, Trump flags\, and all of your friends. \nEvery Saturday.
URL:https://naplesrc.com/event/trump-candidate-rally-2/
LOCATION:Trump Corner\, Pine Ridge Rd. & Airport Pulling Rd.\, Naples\, FL\, United States
END:VEVENT
BEGIN:VEVENT
DTSTART;TZID=America/New_York:20240821T171500
DTEND;TZID=America/New_York:20240821T200000
DTSTAMP:20260425T125323
CREATED:20240811T194746Z
LAST-MODIFIED:20240822T040539Z
UID:870-1724260500-1724270400@naplesrc.com
SUMMARY:Patriotism from the Pulpit
DESCRIPTION:Event Speakers\n\n\n\nRev. William Cook\n\n\n\n\nAlex Blagojevic\n\n\n\n\n\nLEARN MORE ON AUGUST 21\, 2024\n\n\n\n\n\n\nOPENING INVOCATION BY Pastor Jeff Donaldson\n\n\n\n\n\n\n\nGuests: $40\nMembers: $35\nLight Refreshments Provided \n\nSee Sponsors of this Event
URL:https://naplesrc.com/event/patriotism-from-the-pulpit/
LOCATION:Hyatt House\, 1345 Fifth Ave. S\, Naples\, FL\, United States
END:VEVENT
BEGIN:VEVENT
DTSTART;VALUE=DATE:20240820
DTEND;VALUE=DATE:20240821
DTSTAMP:20260425T125323
CREATED:20240811T202622Z
LAST-MODIFIED:20240811T210121Z
UID:892-1724112000-1724198399@naplesrc.com
SUMMARY:Republican Primary Election
DESCRIPTION:Republican primary election.  See CCREC Endorsements.
URL:https://naplesrc.com/event/republican-primary-election/
END:VEVENT
BEGIN:VEVENT
DTSTART;TZID=America/New_York:20240817T100000
DTEND;TZID=America/New_York:20240817T120000
DTSTAMP:20260425T125323
CREATED:20240811T204145Z
LAST-MODIFIED:20240811T204145Z
UID:898-1723888800-1723896000@naplesrc.com
SUMMARY:Trump & Candidate Rally
DESCRIPTION:Bring USA flags\, Trump flags\, and all of your friends. \nEvery Saturday.
URL:https://naplesrc.com/event/trump-candidate-rally/
LOCATION:Trump Corner\, Pine Ridge Rd. & Airport Pulling Rd.\, Naples\, FL\, United States
END:VEVENT
BEGIN:VEVENT
DTSTART;VALUE=DATE:20240810
DTEND;VALUE=DATE:20240818
DTSTAMP:20260425T125323
CREATED:20240811T202408Z
LAST-MODIFIED:20240811T203021Z
UID:888-1723248000-1723939199@naplesrc.com
SUMMARY:Republican Primary Election - Early voting
DESCRIPTION:Early voting for the Republican primary election.  See CCREC Endorsements.
URL:https://naplesrc.com/event/republican-primary-elections-early-voting/
END:VEVENT
END:VCALENDAR