BEGIN:VCALENDAR
VERSION:2.0
PRODID:-//Naples Republican Club - ECPv6.15.20//NONSGML v1.0//EN
CALSCALE:GREGORIAN
METHOD:PUBLISH
X-WR-CALNAME:Naples Republican Club
X-ORIGINAL-URL:https://naplesrc.com
X-WR-CALDESC:Events for Naples Republican Club
REFRESH-INTERVAL;VALUE=DURATION:PT1H
X-Robots-Tag:noindex
X-PUBLISHED-TTL:PT1H
BEGIN:VTIMEZONE
TZID:America/New_York
BEGIN:DAYLIGHT
TZOFFSETFROM:-0500
TZOFFSETTO:-0400
TZNAME:EDT
DTSTART:20230312T070000
END:DAYLIGHT
BEGIN:STANDARD
TZOFFSETFROM:-0400
TZOFFSETTO:-0500
TZNAME:EST
DTSTART:20231105T060000
END:STANDARD
BEGIN:DAYLIGHT
TZOFFSETFROM:-0500
TZOFFSETTO:-0400
TZNAME:EDT
DTSTART:20240310T070000
END:DAYLIGHT
BEGIN:STANDARD
TZOFFSETFROM:-0400
TZOFFSETTO:-0500
TZNAME:EST
DTSTART:20241103T060000
END:STANDARD
BEGIN:DAYLIGHT
TZOFFSETFROM:-0500
TZOFFSETTO:-0400
TZNAME:EDT
DTSTART:20250309T070000
END:DAYLIGHT
BEGIN:STANDARD
TZOFFSETFROM:-0400
TZOFFSETTO:-0500
TZNAME:EST
DTSTART:20251102T060000
END:STANDARD
END:VTIMEZONE
BEGIN:VEVENT
DTSTART;VALUE=DATE:20240926
DTEND;VALUE=DATE:20240927
DTSTAMP:20260425T094058
CREATED:20241007T013234Z
LAST-MODIFIED:20241007T013234Z
UID:1369-1727308800-1727395199@naplesrc.com
SUMMARY:Domestic Vote-by-Mail Ballots Begin Going Out
DESCRIPTION:
URL:https://naplesrc.com/event/domestic-vote-by-mail-ballots-begin-going-out/
LOCATION:FL
END:VEVENT
BEGIN:VEVENT
DTSTART;TZID=America/New_York:20240921T100000
DTEND;TZID=America/New_York:20240921T120000
DTSTAMP:20260425T094058
CREATED:20240811T205121Z
LAST-MODIFIED:20240811T205121Z
UID:912-1726912800-1726920000@naplesrc.com
SUMMARY:Trump & Candidate Rally
DESCRIPTION:Bring USA flags\, Trump flags\, and all of your friends. \nEvery Saturday.
URL:https://naplesrc.com/event/trump-candidate-rally-6/
LOCATION:Trump Corner\, Pine Ridge Rd. & Airport Pulling Rd.\, Naples\, FL\, United States
END:VEVENT
BEGIN:VEVENT
DTSTART;TZID=America/New_York:20240918T180000
DTEND;TZID=America/New_York:20240918T200000
DTSTAMP:20260425T094058
CREATED:20240817T022458Z
LAST-MODIFIED:20240912T020222Z
UID:980-1726682400-1726689600@naplesrc.com
SUMMARY:Mingling with Fratto
DESCRIPTION:SPONSOR EVENT                   BUY TICKETS\n \nWhat made Johnny run for Congress? How can we recruit young Republicans? What is the future of our party?\nLight Bites and 1 free raffle ticket for a bottle of wine from Trump Winery!
URL:https://naplesrc.com/event/mingling-with-fratto/
LOCATION:Dorona\, 2110 Tamiami Trail North\, Naples\, FL\, 34102\, United States
END:VEVENT
BEGIN:VEVENT
DTSTART;TZID=America/New_York:20240914T100000
DTEND;TZID=America/New_York:20240914T120000
DTSTAMP:20260425T094058
CREATED:20240811T205022Z
LAST-MODIFIED:20240811T205022Z
UID:910-1726308000-1726315200@naplesrc.com
SUMMARY:Trump & Candidate Rally
DESCRIPTION:Bring USA flags\, Trump flags\, and all of your friends. \nEvery Saturday.
URL:https://naplesrc.com/event/trump-candidate-rally-5/
LOCATION:Trump Corner\, Pine Ridge Rd. & Airport Pulling Rd.\, Naples\, FL\, United States
END:VEVENT
BEGIN:VEVENT
DTSTART;TZID=America/New_York:20240907T100000
DTEND;TZID=America/New_York:20240907T120000
DTSTAMP:20260425T094058
CREATED:20240811T204838Z
LAST-MODIFIED:20240811T204838Z
UID:908-1725703200-1725710400@naplesrc.com
SUMMARY:Trump & Candidate Rally
DESCRIPTION:Bring USA flags\, Trump flags\, and all of your friends. \nEvery Saturday.
URL:https://naplesrc.com/event/trump-candidate-rally-4/
LOCATION:Trump Corner\, Pine Ridge Rd. & Airport Pulling Rd.\, Naples\, FL\, United States
END:VEVENT
BEGIN:VEVENT
DTSTART;TZID=America/New_York:20240831T100000
DTEND;TZID=America/New_York:20240831T120000
DTSTAMP:20260425T094058
CREATED:20240811T204702Z
LAST-MODIFIED:20240811T204702Z
UID:905-1725098400-1725105600@naplesrc.com
SUMMARY:Trump & Candidate Rally
DESCRIPTION:Bring USA flags\, Trump flags\, and all of your friends. \nEvery Saturday.
URL:https://naplesrc.com/event/trump-candidate-rally-3/
LOCATION:Trump Corner\, Pine Ridge Rd. & Airport Pulling Rd.\, Naples\, FL\, United States
END:VEVENT
BEGIN:VEVENT
DTSTART;TZID=America/New_York:20240824T100000
DTEND;TZID=America/New_York:20240824T120000
DTSTAMP:20260425T094058
CREATED:20240811T204358Z
LAST-MODIFIED:20240811T210008Z
UID:902-1724493600-1724500800@naplesrc.com
SUMMARY:Trump & Candidate Rally
DESCRIPTION:Bring USA flags\, Trump flags\, and all of your friends. \nEvery Saturday.
URL:https://naplesrc.com/event/trump-candidate-rally-2/
LOCATION:Trump Corner\, Pine Ridge Rd. & Airport Pulling Rd.\, Naples\, FL\, United States
END:VEVENT
BEGIN:VEVENT
DTSTART;TZID=America/New_York:20240821T171500
DTEND;TZID=America/New_York:20240821T200000
DTSTAMP:20260425T094058
CREATED:20240811T194746Z
LAST-MODIFIED:20240822T040539Z
UID:870-1724260500-1724270400@naplesrc.com
SUMMARY:Patriotism from the Pulpit
DESCRIPTION:Event Speakers\n\n\n\nRev. William Cook\n\n\n\n\nAlex Blagojevic\n\n\n\n\n\nLEARN MORE ON AUGUST 21\, 2024\n\n\n\n\n\n\nOPENING INVOCATION BY Pastor Jeff Donaldson\n\n\n\n\n\n\n\nGuests: $40\nMembers: $35\nLight Refreshments Provided \n\nSee Sponsors of this Event
URL:https://naplesrc.com/event/patriotism-from-the-pulpit/
LOCATION:Hyatt House\, 1345 Fifth Ave. S\, Naples\, FL\, United States
END:VEVENT
BEGIN:VEVENT
DTSTART;VALUE=DATE:20240820
DTEND;VALUE=DATE:20240821
DTSTAMP:20260425T094058
CREATED:20240811T202622Z
LAST-MODIFIED:20240811T210121Z
UID:892-1724112000-1724198399@naplesrc.com
SUMMARY:Republican Primary Election
DESCRIPTION:Republican primary election.  See CCREC Endorsements.
URL:https://naplesrc.com/event/republican-primary-election/
LOCATION:FL
END:VEVENT
BEGIN:VEVENT
DTSTART;TZID=America/New_York:20240817T100000
DTEND;TZID=America/New_York:20240817T120000
DTSTAMP:20260425T094058
CREATED:20240811T204145Z
LAST-MODIFIED:20240811T204145Z
UID:898-1723888800-1723896000@naplesrc.com
SUMMARY:Trump & Candidate Rally
DESCRIPTION:Bring USA flags\, Trump flags\, and all of your friends. \nEvery Saturday.
URL:https://naplesrc.com/event/trump-candidate-rally/
LOCATION:Trump Corner\, Pine Ridge Rd. & Airport Pulling Rd.\, Naples\, FL\, United States
END:VEVENT
BEGIN:VEVENT
DTSTART;VALUE=DATE:20240810
DTEND;VALUE=DATE:20240818
DTSTAMP:20260425T094058
CREATED:20240811T202408Z
LAST-MODIFIED:20240811T203021Z
UID:888-1723248000-1723939199@naplesrc.com
SUMMARY:Republican Primary Election - Early voting
DESCRIPTION:Early voting for the Republican primary election.  See CCREC Endorsements.
URL:https://naplesrc.com/event/republican-primary-elections-early-voting/
LOCATION:FL
END:VEVENT
END:VCALENDAR